BEGIN:VCALENDAR
VERSION:2.0
PRODID:-//TYPO3/NONSGML News system (news)//EN
BEGIN:VEVENT
UID:news-79945@hochschulrecht.uni-graz.at
DTSTAMP:20241223T070445Z
DTSTART:20211124T150000Z
DTEND:20211124T163000Z
SUMMARY:Die universitäre Weiterbildung im Umbruch?

DESCRIPTION:Online-Diskussion am Mittwoch, den 24. November 2021, 16 Uhr
END:VEVENT
END:VCALENDAR
